Package: lemur Version: 1.4.0 Command: /home/biocbuild/R/R/bin/R CMD INSTALL lemur StartedAt: 2025-01-30 20:21:46 -0000 (Thu, 30 Jan 2025) EndedAt: 2025-01-30 20:22:39 -0000 (Thu, 30 Jan 2025) EllapsedTime: 52.4 seconds RetCode: 0 Status: OK