Package: lemur Version: 1.4.0 Command: rm -rf lemur.buildbin-libdir && mkdir lemur.buildbin-libdir && /Users/biocbuild/BBS/utils/build-universal.sh lemur_1.4.0.tar.gz /Library/Frameworks/R.framework/Resources/bin/R lemur.buildbin-libdir StartedAt: 2025-01-31 13:03:42 -0500 (Fri, 31 Jan 2025) EndedAt: 2025-01-31 13:05:09 -0500 (Fri, 31 Jan 2025) EllapsedTime: 86.7 seconds RetCode: 0 Status: OK PackageFile: lemur_1.4.0.tgz PackageFileSize: 3.839 MiB