Package: lemur Version: 1.4.0 Command: rm -rf lemur.buildbin-libdir && mkdir lemur.buildbin-libdir && /Users/biocbuild/BBS/utils/build-universal.sh lemur_1.4.0.tar.gz /Library/Frameworks/R.framework/Resources/bin/R lemur.buildbin-libdir StartedAt: 2025-02-01 15:29:39 -0500 (Sat, 01 Feb 2025) EndedAt: 2025-02-01 15:30:23 -0500 (Sat, 01 Feb 2025) EllapsedTime: 43.9 seconds RetCode: 0 Status: OK PackageFile: lemur_1.4.0.tgz PackageFileSize: 3.834 MiB