Package: lefser Version: 1.16.0 Command: /home/biocbuild/R/R/bin/R CMD build --keep-empty-dirs --no-resave-data lefser StartedAt: 2025-01-31 00:32:49 -0000 (Fri, 31 Jan 2025) EndedAt: 2025-01-31 00:33:48 -0000 (Fri, 31 Jan 2025) EllapsedTime: 59.0 seconds RetCode: 0 Status: OK PackageFile: lefser_1.16.0.tar.gz PackageFileSize: 557.6 KiB