Package: lefser Version: 1.16.0 Command: /Library/Frameworks/R.framework/Resources/bin/R CMD INSTALL lefser StartedAt: 2025-01-30 16:20:02 -0500 (Thu, 30 Jan 2025) EndedAt: 2025-01-30 16:20:57 -0500 (Thu, 30 Jan 2025) EllapsedTime: 55.2 seconds RetCode: 0 Status: OK