Package: koinar Version: 1.0.2 Command: /Library/Frameworks/R.framework/Resources/bin/R CMD INSTALL koinar StartedAt: 2025-01-30 15:19:30 -0500 (Thu, 30 Jan 2025) EndedAt: 2025-01-30 15:19:33 -0500 (Thu, 30 Jan 2025) EllapsedTime: 2.5 seconds RetCode: 0 Status: OK