Package: koinar Version: 1.0.2 Command: /Library/Frameworks/R.framework/Resources/bin/R CMD build --keep-empty-dirs --no-resave-data koinar StartedAt: 2025-01-31 02:11:11 -0500 (Fri, 31 Jan 2025) EndedAt: 2025-01-31 02:12:00 -0500 (Fri, 31 Jan 2025) EllapsedTime: 49.1 seconds RetCode: 0 Status: OK PackageFile: koinar_1.0.2.tar.gz PackageFileSize: 1.188 MiB