Package: knowYourCG Version: 1.2.5 Command: /home/biocbuild/R/R/bin/R CMD check --install=check:knowYourCG.install-out.txt --library=/home/biocbuild/R/R/site-library --no-vignettes --timings knowYourCG_1.2.5.tar.gz StartedAt: 2025-01-31 07:35:05 -0000 (Fri, 31 Jan 2025) EndedAt: 2025-01-31 07:40:08 -0000 (Fri, 31 Jan 2025) EllapsedTime: 303.5 seconds RetCode: 0 Status: OK CheckDir: knowYourCG.Rcheck Warnings: 0