Package: knowYourCG Version: 1.2.5 Command: /home/biocbuild/bbs-3.20-bioc/R/bin/R CMD check --install=check:knowYourCG.install-out.txt --library=/home/biocbuild/bbs-3.20-bioc/R/site-library --timings knowYourCG_1.2.5.tar.gz StartedAt: 2025-01-30 23:26:10 -0500 (Thu, 30 Jan 2025) EndedAt: 2025-01-30 23:32:25 -0500 (Thu, 30 Jan 2025) EllapsedTime: 375.6 seconds RetCode: 0 Status: OK CheckDir: knowYourCG.Rcheck Warnings: 0