Package: knowYourCG Version: 1.2.0 Command: /home/biocbuild/R/R/bin/R CMD check --install=check:knowYourCG.install-out.txt --library=/home/biocbuild/R/R/site-library --no-vignettes --timings knowYourCG_1.2.0.tar.gz StartedAt: 2024-11-20 09:16:18 -0000 (Wed, 20 Nov 2024) EndedAt: 2024-11-20 09:20:53 -0000 (Wed, 20 Nov 2024) EllapsedTime: 274.6 seconds RetCode: 0 Status: OK CheckDir: knowYourCG.Rcheck Warnings: 0