Package: knowYourCG Version: 1.2.5 Command: rm -rf knowYourCG.buildbin-libdir && mkdir knowYourCG.buildbin-libdir && /Users/biocbuild/BBS/utils/build-universal.sh knowYourCG_1.2.5.tar.gz /Library/Frameworks/R.framework/Resources/bin/R knowYourCG.buildbin-libdir StartedAt: 2025-01-25 15:27:02 -0500 (Sat, 25 Jan 2025) EndedAt: 2025-01-25 15:27:29 -0500 (Sat, 25 Jan 2025) EllapsedTime: 27.0 seconds RetCode: 0 Status: OK PackageFile: knowYourCG_1.2.5.tgz PackageFileSize: 11.04 MiB