Package: iterativeBMA Version: 1.64.0 Command: rm -rf iterativeBMA.buildbin-libdir && mkdir iterativeBMA.buildbin-libdir && /Users/biocbuild/BBS/utils/build-universal.sh iterativeBMA_1.64.0.tar.gz /Library/Frameworks/R.framework/Resources/bin/R iterativeBMA.buildbin-libdir StartedAt: 2025-02-01 15:27:02 -0500 (Sat, 01 Feb 2025) EndedAt: 2025-02-01 15:27:12 -0500 (Sat, 01 Feb 2025) EllapsedTime: 10.1 seconds RetCode: 0 Status: OK PackageFile: iterativeBMA_1.64.0.tgz PackageFileSize: 213.8 KiB