Package: interacCircos Version: 1.16.0 Command: /Library/Frameworks/R.framework/Resources/bin/R CMD INSTALL interacCircos StartedAt: 2025-01-30 16:36:17 -0500 (Thu, 30 Jan 2025) EndedAt: 2025-01-30 16:36:22 -0500 (Thu, 30 Jan 2025) EllapsedTime: 4.6 seconds RetCode: 0 Status: OK