Package: infercnv Version: 1.22.0 Command: F:\biocbuild\bbs-3.20-bioc\R\bin\R.exe CMD INSTALL infercnv StartedAt: 2025-01-30 16:33:22 -0500 (Thu, 30 Jan 2025) EndedAt: 2025-01-30 16:35:00 -0500 (Thu, 30 Jan 2025) EllapsedTime: 97.7 seconds RetCode: 0 Status: OK