Package: immunogenViewer Version: 1.0.0 Command: /home/biocbuild/bbs-3.20-bioc/R/bin/R CMD build --keep-empty-dirs --no-resave-data --md5 immunogenViewer StartedAt: 2025-01-30 17:43:18 -0500 (Thu, 30 Jan 2025) EndedAt: 2025-01-30 17:44:09 -0500 (Thu, 30 Jan 2025) EllapsedTime: 51.0 seconds RetCode: 0 Status: OK PackageFile: immunogenViewer_1.0.0.tar.gz PackageFileSize: 674.6 KiB