Package: immApex Version: 1.0.4 Command: /home/biocbuild/R/R/bin/R CMD INSTALL immApex StartedAt: 2025-01-30 20:17:26 -0000 (Thu, 30 Jan 2025) EndedAt: 2025-01-30 20:17:55 -0000 (Thu, 30 Jan 2025) EllapsedTime: 28.4 seconds RetCode: 0 Status: OK