Package: immApex Version: 1.0.4 Command: /Library/Frameworks/R.framework/Resources/bin/R CMD INSTALL immApex StartedAt: 2025-01-30 15:27:32 -0500 (Thu, 30 Jan 2025) EndedAt: 2025-01-30 15:28:01 -0500 (Thu, 30 Jan 2025) EllapsedTime: 28.5 seconds RetCode: 0 Status: OK