Package: igvShiny Version: 1.2.0 Command: /Library/Frameworks/R.framework/Resources/bin/R CMD check --install=check:igvShiny.install-out.txt --library=/Library/Frameworks/R.framework/Resources/library --no-vignettes --timings igvShiny_1.2.0.tar.gz StartedAt: 2025-01-31 22:22:10 -0500 (Fri, 31 Jan 2025) EndedAt: 2025-01-31 22:24:12 -0500 (Fri, 31 Jan 2025) EllapsedTime: 122.4 seconds RetCode: 0 Status: OK CheckDir: igvShiny.Rcheck Warnings: 0