Package: igvShiny Version: 1.2.0 Command: rm -rf igvShiny.buildbin-libdir && mkdir igvShiny.buildbin-libdir && /Users/biocbuild/BBS/utils/build-universal.sh igvShiny_1.2.0.tar.gz /Library/Frameworks/R.framework/Resources/bin/R igvShiny.buildbin-libdir StartedAt: 2025-02-01 15:20:29 -0500 (Sat, 01 Feb 2025) EndedAt: 2025-02-01 15:20:46 -0500 (Sat, 01 Feb 2025) EllapsedTime: 16.9 seconds RetCode: 0 Status: OK PackageFile: igvShiny_1.2.0.tgz PackageFileSize: 4.301 MiB