Package: igvR Version: 1.26.0 Command: F:\biocbuild\bbs-3.20-bioc\R\bin\R.exe CMD check --no-multiarch --install=check:igvR.install-out.txt --library=F:\biocbuild\bbs-3.20-bioc\R\library --no-vignettes --timings igvR_1.26.0.tar.gz StartedAt: 2025-01-31 03:02:33 -0500 (Fri, 31 Jan 2025) EndedAt: 2025-01-31 03:08:37 -0500 (Fri, 31 Jan 2025) EllapsedTime: 363.9 seconds RetCode: 0 Status: OK CheckDir: igvR.Rcheck Warnings: 0