Package: igvR Version: 1.26.0 Command: rm -rf igvR.buildbin-libdir && mkdir igvR.buildbin-libdir && F:\biocbuild\bbs-3.20-bioc\R\bin\R.exe CMD INSTALL --build --library=igvR.buildbin-libdir igvR_1.26.0.tar.gz StartedAt: 2025-01-31 08:51:38 -0500 (Fri, 31 Jan 2025) EndedAt: 2025-01-31 08:53:17 -0500 (Fri, 31 Jan 2025) EllapsedTime: 98.5 seconds RetCode: 0 Status: OK PackageFile: igvR_1.26.0.zip PackageFileSize: 6.39 MiB