Package: ideal Version: 2.0.0 Command: /Library/Frameworks/R.framework/Resources/bin/R CMD build --keep-empty-dirs --no-resave-data ideal StartedAt: 2025-01-30 19:56:57 -0500 (Thu, 30 Jan 2025) EndedAt: 2025-01-30 20:03:49 -0500 (Thu, 30 Jan 2025) EllapsedTime: 411.2 seconds RetCode: 0 Status: OK PackageFile: ideal_2.0.0.tar.gz PackageFileSize: 5.75 MiB