Package: icetea Version: 1.24.0 Command: /home/biocbuild/R/R/bin/R CMD INSTALL icetea StartedAt: 2025-01-30 20:30:00 -0000 (Thu, 30 Jan 2025) EndedAt: 2025-01-30 20:31:00 -0000 (Thu, 30 Jan 2025) EllapsedTime: 59.9 seconds RetCode: 0 Status: OK