Package: ibh Version: 1.54.0 Command: /home/biocbuild/R/R/bin/R CMD INSTALL ibh StartedAt: 2025-01-30 20:08:21 -0000 (Thu, 30 Jan 2025) EndedAt: 2025-01-30 20:08:46 -0000 (Thu, 30 Jan 2025) EllapsedTime: 24.5 seconds RetCode: 0 Status: OK