Package: ibh Version: 1.54.0 Command: chmod a+r ibh -R && F:\biocbuild\bbs-3.20-bioc\R\bin\R.exe CMD build --keep-empty-dirs --no-resave-data ibh StartedAt: 2025-01-30 19:33:24 -0500 (Thu, 30 Jan 2025) EndedAt: 2025-01-30 19:33:37 -0500 (Thu, 30 Jan 2025) EllapsedTime: 13.1 seconds RetCode: 0 Status: OK PackageFile: ibh_1.54.0.tar.gz PackageFileSize: 128.1 KiB