Package: ibh Version: 1.54.0 Command: /Library/Frameworks/R.framework/Resources/bin/R CMD INSTALL ibh StartedAt: 2025-01-30 15:08:38 -0500 (Thu, 30 Jan 2025) EndedAt: 2025-01-30 15:08:43 -0500 (Thu, 30 Jan 2025) EllapsedTime: 4.5 seconds RetCode: 0 Status: OK