Package: iSEEtree Version: 1.0.0 Command: rm -rf iSEEtree.buildbin-libdir && mkdir iSEEtree.buildbin-libdir && /Users/biocbuild/BBS/utils/build-universal.sh iSEEtree_1.0.0.tar.gz /Library/Frameworks/R.framework/Resources/bin/R iSEEtree.buildbin-libdir StartedAt: 2025-01-31 13:01:59 -0500 (Fri, 31 Jan 2025) EndedAt: 2025-01-31 13:03:45 -0500 (Fri, 31 Jan 2025) EllapsedTime: 106.2 seconds RetCode: 0 Status: OK PackageFile: iSEEtree_1.0.0.tgz PackageFileSize: 803.5 KiB