Package: iSEEtree Version: 1.0.0 Command: /Library/Frameworks/R.framework/Resources/bin/R CMD build --keep-empty-dirs --no-resave-data iSEEtree StartedAt: 2025-01-31 02:02:43 -0500 (Fri, 31 Jan 2025) EndedAt: 2025-01-31 02:04:07 -0500 (Fri, 31 Jan 2025) EllapsedTime: 83.4 seconds RetCode: 0 Status: OK PackageFile: iSEEtree_1.0.0.tar.gz PackageFileSize: 655.1 KiB