Package: iSEEde Version: 1.4.0 Command: /Library/Frameworks/R.framework/Resources/bin/R CMD INSTALL iSEEde StartedAt: 2024-11-08 15:35:32 -0500 (Fri, 08 Nov 2024) EndedAt: 2024-11-08 15:35:44 -0500 (Fri, 08 Nov 2024) EllapsedTime: 12.0 seconds RetCode: 0 Status: OK