Package: iClusterPlus Version: 1.42.0 Command: /Library/Frameworks/R.framework/Resources/bin/R CMD INSTALL iClusterPlus StartedAt: 2025-01-30 15:14:04 -0500 (Thu, 30 Jan 2025) EndedAt: 2025-01-30 15:14:38 -0500 (Thu, 30 Jan 2025) EllapsedTime: 33.8 seconds RetCode: 0 Status: OK