Package: iClusterPlus Version: 1.42.0 Command: /Library/Frameworks/R.framework/Resources/bin/R CMD check --install=check:iClusterPlus.install-out.txt --library=/Library/Frameworks/R.framework/Resources/library --no-vignettes --timings iClusterPlus_1.42.0.tar.gz StartedAt: 2025-01-31 22:16:00 -0500 (Fri, 31 Jan 2025) EndedAt: 2025-01-31 22:17:44 -0500 (Fri, 31 Jan 2025) EllapsedTime: 104.9 seconds RetCode: 0 Status: OK CheckDir: iClusterPlus.Rcheck Warnings: 0