Package: iClusterPlus Version: 1.42.0 Command: /Library/Frameworks/R.framework/Resources/bin/R CMD build --keep-empty-dirs --no-resave-data iClusterPlus StartedAt: 2025-01-31 01:38:14 -0500 (Fri, 31 Jan 2025) EndedAt: 2025-01-31 01:39:02 -0500 (Fri, 31 Jan 2025) EllapsedTime: 48.0 seconds RetCode: 0 Status: OK PackageFile: iClusterPlus_1.42.0.tar.gz PackageFileSize: 20.69 MiB