Package: iCheck Version: 1.36.0 Command: F:\biocbuild\bbs-3.20-bioc\R\bin\R.exe CMD INSTALL iCheck StartedAt: 2025-01-30 16:55:22 -0500 (Thu, 30 Jan 2025) EndedAt: 2025-01-30 16:56:22 -0500 (Thu, 30 Jan 2025) EllapsedTime: 59.6 seconds RetCode: 0 Status: OK