Package: iASeq Version: 1.50.0 Command: F:\biocbuild\bbs-3.20-bioc\R\bin\R.exe CMD check --no-multiarch --install=check:iASeq.install-out.txt --library=F:\biocbuild\bbs-3.20-bioc\R\library --no-vignettes --timings iASeq_1.50.0.tar.gz StartedAt: 2025-01-31 03:00:03 -0500 (Fri, 31 Jan 2025) EndedAt: 2025-01-31 03:00:36 -0500 (Fri, 31 Jan 2025) EllapsedTime: 32.9 seconds RetCode: 0 Status: OK CheckDir: iASeq.Rcheck Warnings: 0