Package: iASeq Version: 1.50.0 Command: /Library/Frameworks/R.framework/Resources/bin/R CMD build --keep-empty-dirs --no-resave-data iASeq StartedAt: 2025-01-31 01:35:48 -0500 (Fri, 31 Jan 2025) EndedAt: 2025-01-31 01:36:01 -0500 (Fri, 31 Jan 2025) EllapsedTime: 12.5 seconds RetCode: 0 Status: OK PackageFile: iASeq_1.50.0.tar.gz PackageFileSize: 205.4 KiB