Package: hummingbird Version: 1.16.0 Command: /home/biocbuild/R/R/bin/R CMD INSTALL hummingbird StartedAt: 2025-01-30 20:16:22 -0000 (Thu, 30 Jan 2025) EndedAt: 2025-01-30 20:16:52 -0000 (Thu, 30 Jan 2025) EllapsedTime: 30.5 seconds RetCode: 0 Status: OK