Package: hummingbird Version: 1.16.0 Command: F:\biocbuild\bbs-3.20-bioc\R\bin\R.exe CMD check --no-multiarch --install=check:hummingbird.install-out.txt --library=F:\biocbuild\bbs-3.20-bioc\R\library --no-vignettes --timings hummingbird_1.16.0.tar.gz StartedAt: 2025-01-31 02:59:02 -0500 (Fri, 31 Jan 2025) EndedAt: 2025-01-31 03:02:14 -0500 (Fri, 31 Jan 2025) EllapsedTime: 192.1 seconds RetCode: 0 Status: OK CheckDir: hummingbird.Rcheck Warnings: 0