Package: hummingbird Version: 1.16.0 Command: /home/biocbuild/bbs-3.20-bioc/R/bin/R CMD INSTALL hummingbird StartedAt: 2025-01-30 15:11:44 -0500 (Thu, 30 Jan 2025) EndedAt: 2025-01-30 15:12:07 -0500 (Thu, 30 Jan 2025) EllapsedTime: 22.9 seconds RetCode: 0 Status: OK