Package: hermes Version: 1.10.0 Command: /home/biocbuild/bbs-3.20-bioc/R/bin/R CMD check --install=check:hermes.install-out.txt --library=/home/biocbuild/bbs-3.20-bioc/R/site-library --timings hermes_1.10.0.tar.gz StartedAt: 2025-01-30 22:57:32 -0500 (Thu, 30 Jan 2025) EndedAt: 2025-01-30 23:05:50 -0500 (Thu, 30 Jan 2025) EllapsedTime: 498.6 seconds RetCode: 0 Status: OK CheckDir: hermes.Rcheck Warnings: 0