Package: hca Version: 1.14.0 Command: /home/biocbuild/R/R/bin/R CMD INSTALL hca StartedAt: 2025-01-30 20:41:31 -0000 (Thu, 30 Jan 2025) EndedAt: 2025-01-30 20:41:39 -0000 (Thu, 30 Jan 2025) EllapsedTime: 7.9 seconds RetCode: 0 Status: OK