Package: hapFabia Version: 1.48.0 Command: /Library/Frameworks/R.framework/Resources/bin/R CMD check --install=check:hapFabia.install-out.txt --library=/Library/Frameworks/R.framework/Resources/library --no-vignettes --timings hapFabia_1.48.0.tar.gz StartedAt: 2025-01-31 21:40:54 -0500 (Fri, 31 Jan 2025) EndedAt: 2025-01-31 21:41:57 -0500 (Fri, 31 Jan 2025) EllapsedTime: 63.1 seconds RetCode: 0 Status: WARNINGS CheckDir: hapFabia.Rcheck Warnings: 1