Package: gypsum Version: 1.2.0 Command: /home/biocbuild/R/R/bin/R CMD check --install=check:gypsum.install-out.txt --library=/home/biocbuild/R/R/site-library --no-vignettes --timings gypsum_1.2.0.tar.gz StartedAt: 2025-01-31 07:01:48 -0000 (Fri, 31 Jan 2025) EndedAt: 2025-01-31 07:08:57 -0000 (Fri, 31 Jan 2025) EllapsedTime: 428.3 seconds RetCode: 0 Status: OK CheckDir: gypsum.Rcheck Warnings: 0