Package: gypsum Version: 1.2.0 Command: F:\biocbuild\bbs-3.20-bioc\R\bin\R.exe CMD INSTALL gypsum StartedAt: 2025-01-30 15:29:36 -0500 (Thu, 30 Jan 2025) EndedAt: 2025-01-30 15:30:05 -0500 (Thu, 30 Jan 2025) EllapsedTime: 28.4 seconds RetCode: 0 Status: OK