Package: gwasurvivr Version: 1.24.0 Command: /Library/Frameworks/R.framework/Resources/bin/R CMD INSTALL gwasurvivr StartedAt: 2025-01-30 16:28:14 -0500 (Thu, 30 Jan 2025) EndedAt: 2025-01-30 16:29:46 -0500 (Thu, 30 Jan 2025) EllapsedTime: 92.9 seconds RetCode: 0 Status: OK