Package: gwasurvivr Version: 1.24.0 Command: /Library/Frameworks/R.framework/Resources/bin/R CMD INSTALL gwasurvivr StartedAt: 2025-01-30 17:37:39 -0500 (Thu, 30 Jan 2025) EndedAt: 2025-01-30 17:38:32 -0500 (Thu, 30 Jan 2025) EllapsedTime: 53.7 seconds RetCode: 0 Status: OK