Package: gwasurvivr Version: 1.24.0 Command: /Library/Frameworks/R.framework/Resources/bin/R CMD check --install=check:gwasurvivr.install-out.txt --library=/Library/Frameworks/R.framework/Resources/library --no-vignettes --timings gwasurvivr_1.24.0.tar.gz StartedAt: 2025-01-31 21:34:33 -0500 (Fri, 31 Jan 2025) EndedAt: 2025-01-31 21:41:41 -0500 (Fri, 31 Jan 2025) EllapsedTime: 428.0 seconds RetCode: 0 Status: OK CheckDir: gwasurvivr.Rcheck Warnings: 0