Package: gwascat Version: 2.38.0 Command: /home/biocbuild/R/R/bin/R CMD INSTALL gwascat StartedAt: 2025-01-30 20:55:21 -0000 (Thu, 30 Jan 2025) EndedAt: 2025-01-30 20:56:25 -0000 (Thu, 30 Jan 2025) EllapsedTime: 63.7 seconds RetCode: 0 Status: OK