Package: gwascat Version: 2.38.0 Command: /home/biocbuild/R/R/bin/R CMD check --install=check:gwascat.install-out.txt --library=/home/biocbuild/R/R/site-library --no-vignettes --timings gwascat_2.38.0.tar.gz StartedAt: 2025-01-31 07:01:29 -0000 (Fri, 31 Jan 2025) EndedAt: 2025-01-31 07:12:04 -0000 (Fri, 31 Jan 2025) EllapsedTime: 634.5 seconds RetCode: 0 Status: OK CheckDir: gwascat.Rcheck Warnings: 0