Package: gwascat Version: 2.38.0 Command: /home/biocbuild/bbs-3.20-bioc/R/bin/R CMD check --install=check:gwascat.install-out.txt --library=/home/biocbuild/bbs-3.20-bioc/R/site-library --timings gwascat_2.38.0.tar.gz StartedAt: 2025-01-30 22:52:57 -0500 (Thu, 30 Jan 2025) EndedAt: 2025-01-30 23:02:31 -0500 (Thu, 30 Jan 2025) EllapsedTime: 573.6 seconds RetCode: 0 Status: OK CheckDir: gwascat.Rcheck Warnings: 0