Package: gsean Version: 1.26.0 Command: /Library/Frameworks/R.framework/Resources/bin/R CMD INSTALL gsean StartedAt: 2025-01-30 17:29:15 -0500 (Thu, 30 Jan 2025) EndedAt: 2025-01-30 17:29:42 -0500 (Thu, 30 Jan 2025) EllapsedTime: 26.6 seconds RetCode: 0 Status: OK